BEGIN:VCALENDAR
VERSION:2.0
PRODID:-//eventon.com NONSGML v1.0//EN
BEGIN:VEVENT
UID:69e92975f3b62
DTSTAMP:20260423T040301
DTSTART:20250128T000000Z
DTEND:20250128T090000Z
TZID:Asia/Hong_Kong
LOCATION:
SUMMARY:Hematology Insights and Trends
DESCRIPTION: &nbsp; &nbsp;\nhttps://www.makatimed.net.ph/events/hematology-insights-and-trends/
URL:https://www.makatimed.net.ph/events/hematology-insights-and-trends/
END:VEVENT
END:VCALENDAR