BEGIN:VCALENDAR
VERSION:2.0
PRODID:-//eventon.com NONSGML v1.0//EN
BEGIN:VEVENT
UID:69e9f2c931daa
DTSTAMP:20260423T182201
DTSTART:20241116T020000Z
DTEND:20241116T040000Z
TZID:Asia/Hong_Kong
LOCATION:
SUMMARY:MOOD HARMONY - SHAPING A LIFE WORLD LIVING: DBT Toolkit for Everyday Use
DESCRIPTION: \nhttps://www.makatimed.net.ph/events/mood-harmony-shaping-a-life-world-living-dbt-toolkit-for-everyday-use/
URL:https://www.makatimed.net.ph/events/mood-harmony-shaping-a-life-world-living-dbt-toolkit-for-everyday-use/
END:VEVENT
END:VCALENDAR