BEGIN:VCALENDAR
VERSION:2.0
PRODID:-//eventon.com NONSGML v1.0//EN
BEGIN:VEVENT
UID:69e9dedb2ef99
DTSTAMP:20260423T165659
DTSTART:20241019T010000Z
DTEND:20241019T030000Z
TZID:Asia/Hong_Kong
LOCATION:
SUMMARY:Pregnancy & Beyond 2024: Immunizations
DESCRIPTION: \nhttps://www.makatimed.net.ph/events/pregnancy-beyond-2024-immunizations/
URL:https://www.makatimed.net.ph/events/pregnancy-beyond-2024-immunizations/
END:VEVENT
END:VCALENDAR